BEGIN:VCALENDAR
VERSION:2.0
PRODID:-//Fallbrook Music Society - ECPv6.15.20//NONSGML v1.0//EN
CALSCALE:GREGORIAN
METHOD:PUBLISH
X-ORIGINAL-URL:https://fallbrookmusicsociety.org
X-WR-CALDESC:Events for Fallbrook Music Society
REFRESH-INTERVAL;VALUE=DURATION:PT1H
X-Robots-Tag:noindex
X-PUBLISHED-TTL:PT1H
BEGIN:VTIMEZONE
TZID:America/Los_Angeles
BEGIN:DAYLIGHT
TZOFFSETFROM:-0800
TZOFFSETTO:-0700
TZNAME:PDT
DTSTART:20240310T100000
END:DAYLIGHT
BEGIN:STANDARD
TZOFFSETFROM:-0700
TZOFFSETTO:-0800
TZNAME:PST
DTSTART:20241103T090000
END:STANDARD
BEGIN:DAYLIGHT
TZOFFSETFROM:-0800
TZOFFSETTO:-0700
TZNAME:PDT
DTSTART:20250309T100000
END:DAYLIGHT
BEGIN:STANDARD
TZOFFSETFROM:-0700
TZOFFSETTO:-0800
TZNAME:PST
DTSTART:20251102T090000
END:STANDARD
BEGIN:DAYLIGHT
TZOFFSETFROM:-0800
TZOFFSETTO:-0700
TZNAME:PDT
DTSTART:20260308T100000
END:DAYLIGHT
BEGIN:STANDARD
TZOFFSETFROM:-0700
TZOFFSETTO:-0800
TZNAME:PST
DTSTART:20261101T090000
END:STANDARD
END:VTIMEZONE
BEGIN:VEVENT
DTSTART;TZID=America/Los_Angeles:20251109T140000
DTEND;TZID=America/Los_Angeles:20251109T140000
DTSTAMP:20260421T045352
CREATED:20240718T222210Z
LAST-MODIFIED:20250918T230406Z
UID:3075-1762696800-1762696800@fallbrookmusicsociety.org
SUMMARY:TEXAS GUITAR QUARTET
DESCRIPTION:EXPECT BOLD\, PASSIONATE PLAYING…JAW DROPPING SKILLS…AND A WHOLE LOT OF HEART. \n\n  \nYou’re in for a real treat – this Grammy-nominated quartet is lighting up stages around the globe\, and now they’re bringing their magic to town! Since forming in 2009\, this sensational group has wowed audiences everywhere from the U.S. and Canada to Spain\, China\, and beyond. With rave reviews like “Impeccable in every respect” (thanks\, Classical Guitar Magazine!)\, they’ve become fan favorites for a reason. Their show\, “Music of Spain & Latin America\,” is a vibrant celebration of fiery rhythms\, seductive melodies\, and the rich musical traditions that have inspired composers all over the world. This performance promises to be unforgettable. \nDate: Sunday\, November 9\, 2025\nTime: 2 pm\nAdmission: $20: $25 day of show\nChildren 18 and under are free \nArtist’s Website: www.txgq.net \nBUY TICKETS!
URL:https://fallbrookmusicsociety.org/event/texas-guitar-quartet/
LOCATION:Mission Theater\, 231 North Main Avenue\, Fallbrook\, CA
ATTACH;FMTTYPE=image/jpeg:https://fallbrookmusicsociety.org/wp-content/uploads/2024/07/texas.jpg
END:VEVENT
END:VCALENDAR