BEGIN:VCALENDAR
VERSION:2.0
PRODID:-//Fallbrook Music Society - ECPv6.15.20//NONSGML v1.0//EN
CALSCALE:GREGORIAN
METHOD:PUBLISH
X-WR-CALNAME:Fallbrook Music Society
X-ORIGINAL-URL:https://fallbrookmusicsociety.org
X-WR-CALDESC:Events for Fallbrook Music Society
REFRESH-INTERVAL;VALUE=DURATION:PT1H
X-Robots-Tag:noindex
X-PUBLISHED-TTL:PT1H
BEGIN:VTIMEZONE
TZID:America/Los_Angeles
BEGIN:DAYLIGHT
TZOFFSETFROM:-0800
TZOFFSETTO:-0700
TZNAME:PDT
DTSTART:20240310T100000
END:DAYLIGHT
BEGIN:STANDARD
TZOFFSETFROM:-0700
TZOFFSETTO:-0800
TZNAME:PST
DTSTART:20241103T090000
END:STANDARD
BEGIN:DAYLIGHT
TZOFFSETFROM:-0800
TZOFFSETTO:-0700
TZNAME:PDT
DTSTART:20250309T100000
END:DAYLIGHT
BEGIN:STANDARD
TZOFFSETFROM:-0700
TZOFFSETTO:-0800
TZNAME:PST
DTSTART:20251102T090000
END:STANDARD
BEGIN:DAYLIGHT
TZOFFSETFROM:-0800
TZOFFSETTO:-0700
TZNAME:PDT
DTSTART:20260308T100000
END:DAYLIGHT
BEGIN:STANDARD
TZOFFSETFROM:-0700
TZOFFSETTO:-0800
TZNAME:PST
DTSTART:20261101T090000
END:STANDARD
END:VTIMEZONE
BEGIN:VEVENT
DTSTART;TZID=America/Los_Angeles:20251207T140000
DTEND;TZID=America/Los_Angeles:20251207T140000
DTSTAMP:20260421T091450
CREATED:20240718T222011Z
LAST-MODIFIED:20251113T232425Z
UID:3072-1765116000-1765116000@fallbrookmusicsociety.org
SUMMARY:A “JINGLES AND JAZZ’ CHRISTMAS
DESCRIPTION:LET THE HOLIDAY MAGIC BEGIN… \nGet ready to wrap yourself in the warm\, nostalgic sounds of the season as Camarada\, one of San Diego’s favorite ensembles\, brings holiday cheer to the Fallbrook stage! We’re talking timeless classics like “The Christmas Song\,” “Christmas Time is Here\,” and “O Tannenbaum” – all the cozy\, feel-good tunes that make this time of year so special. And the highlight? A heartwarming tribute to “A Charlie Brown Christmas\,” featuring fresh arrangements by San Diego jazz legend Peter Sprague. He puts a brand-new spin on Vince Guaraldi’s iconic 1965 soundtrack – the music that gave the Peanuts gang their unforgettable holiday groove. \n\n  \nPeter Sprague\, guitar; Alison Adams Tucker – voice; Beth Ross Buckley\, flute; Tripp Sprague\, flute & Sax; Mackenzie Leighton\, double bass; Danny Green\, piano and Duncan Moore\, drums \nDate: Sunday\, December 7\, 2025\nTime: 2 pm\nAdmission: $25; $30 day of show\nChildren 18 and under are free \nArtist’s Website: www.camarada.org \nBUY TICKETS!\n 
URL:https://fallbrookmusicsociety.org/event/jingles/
LOCATION:Mission Theater\, 231 North Main Avenue\, Fallbrook\, CA
ATTACH;FMTTYPE=image/jpeg:https://fallbrookmusicsociety.org/wp-content/uploads/2024/07/jingles.jpg
END:VEVENT
BEGIN:VEVENT
DTSTART;TZID=America/Los_Angeles:20251109T140000
DTEND;TZID=America/Los_Angeles:20251109T140000
DTSTAMP:20260421T091450
CREATED:20240718T222210Z
LAST-MODIFIED:20250918T230406Z
UID:3075-1762696800-1762696800@fallbrookmusicsociety.org
SUMMARY:TEXAS GUITAR QUARTET
DESCRIPTION:EXPECT BOLD\, PASSIONATE PLAYING…JAW DROPPING SKILLS…AND A WHOLE LOT OF HEART. \n\n  \nYou’re in for a real treat – this Grammy-nominated quartet is lighting up stages around the globe\, and now they’re bringing their magic to town! Since forming in 2009\, this sensational group has wowed audiences everywhere from the U.S. and Canada to Spain\, China\, and beyond. With rave reviews like “Impeccable in every respect” (thanks\, Classical Guitar Magazine!)\, they’ve become fan favorites for a reason. Their show\, “Music of Spain & Latin America\,” is a vibrant celebration of fiery rhythms\, seductive melodies\, and the rich musical traditions that have inspired composers all over the world. This performance promises to be unforgettable. \nDate: Sunday\, November 9\, 2025\nTime: 2 pm\nAdmission: $20: $25 day of show\nChildren 18 and under are free \nArtist’s Website: www.txgq.net \nBUY TICKETS!
URL:https://fallbrookmusicsociety.org/event/texas-guitar-quartet/
LOCATION:Mission Theater\, 231 North Main Avenue\, Fallbrook\, CA
ATTACH;FMTTYPE=image/jpeg:https://fallbrookmusicsociety.org/wp-content/uploads/2024/07/texas.jpg
END:VEVENT
BEGIN:VEVENT
DTSTART;TZID=America/Los_Angeles:20251026T140000
DTEND;TZID=America/Los_Angeles:20251026T140000
DTSTAMP:20260421T091450
CREATED:20240718T222549Z
LAST-MODIFIED:20250929T214623Z
UID:3078-1761487200-1761487200@fallbrookmusicsociety.org
SUMMARY:TAKE3
DESCRIPTION:TAKE3 IS BACK – AND THEY’RE TURNING UP THE VOLUME! \n\nFallbrook’s favorite trio is hitting the stage once again – this time with their brand-new show “Jukebox Rock” – and it’s all about the hits you know and love from the ‘70’s! Think The Beatles\, Billy Joel\, Elvis\, The Carpenters…but with a bold\, modern twist only TAKE3 can deliver. This powerhouse group blends their classical chops with rock-star charisma\, effortlessly jumping between genres like it’s second nature. With fiery energy\, quick wit\, and that easy\, on-stage chemistry\, they don’t just perform music – they bring it to life in totally unexpected ways. Whether you’re a die-hard fan of the classics or just love a high-energy afternoon out\, “Jukebox Rock” is guaranteed to have you dancing in the aisles and singing all the way home. \nDate: Sunday\, October 26\, 2025\nTime: 2 pm\nAdmission: $20: $25 day of show\nChlldren 18 and under are free \nArtist’s Website: http://www.take3music.com/ \nBUY TICKETS!
URL:https://fallbrookmusicsociety.org/event/take3-2/
LOCATION:Mission Theater\, 231 North Main Avenue\, Fallbrook\, CA
ATTACH;FMTTYPE=image/jpeg:https://fallbrookmusicsociety.org/wp-content/uploads/2024/07/take3-2.jpg
END:VEVENT
BEGIN:VEVENT
DTSTART;TZID=America/Los_Angeles:20250921T140000
DTEND;TZID=America/Los_Angeles:20250921T140000
DTSTAMP:20260421T091450
CREATED:20240718T222816Z
LAST-MODIFIED:20250929T214338Z
UID:3081-1758463200-1758463200@fallbrookmusicsociety.org
SUMMARY:RANGE ENSEMBLE
DESCRIPTION:KICK OFF OUR 48th SEASON WITH A BLOCKBUSTER OF SOUND!  \nGet ready for a Season Opener that hits all the right notes – the flagship string quartet\, Range Ensemble\, will wow you with a musical experience that’s both powerful and personal.  “Music From the Silver Screen” brings together some of the most iconic and instantly recognizable film scores.  From the explosive energy of “Mambo” from West Side Story to the cool surf-rock vibe of “Misirlou” from Pulp Fiction\, to the pulse-pounding “Mission Impossible” theme – this isn’t just a concert\, it’s a soundtrack to your favorite movie memories. Range Ensemble puts its own spin on these classics\, blending virtuosity with passion and excellence. \nDate:  Sunday\, September 21\, 2025\nAdmission: $20/$25 day of show\nChildren 18 and under are free \nBUY TICKETS!
URL:https://fallbrookmusicsociety.org/event/range-ensemble/
LOCATION:Mission Theater\, 231 North Main Avenue\, Fallbrook\, CA
ATTACH;FMTTYPE=image/jpeg:https://fallbrookmusicsociety.org/wp-content/uploads/2024/07/range-ensemble.jpg
END:VEVENT
END:VCALENDAR