BEGIN:VCALENDAR
VERSION:2.0
PRODID:-//Fallbrook Music Society - ECPv6.15.20//NONSGML v1.0//EN
CALSCALE:GREGORIAN
METHOD:PUBLISH
X-ORIGINAL-URL:https://fallbrookmusicsociety.org
X-WR-CALDESC:Events for Fallbrook Music Society
REFRESH-INTERVAL;VALUE=DURATION:PT1H
X-Robots-Tag:noindex
X-PUBLISHED-TTL:PT1H
BEGIN:VTIMEZONE
TZID:America/Los_Angeles
BEGIN:DAYLIGHT
TZOFFSETFROM:-0800
TZOFFSETTO:-0700
TZNAME:PDT
DTSTART:20250309T100000
END:DAYLIGHT
BEGIN:STANDARD
TZOFFSETFROM:-0700
TZOFFSETTO:-0800
TZNAME:PST
DTSTART:20251102T090000
END:STANDARD
BEGIN:DAYLIGHT
TZOFFSETFROM:-0800
TZOFFSETTO:-0700
TZNAME:PDT
DTSTART:20260308T100000
END:DAYLIGHT
BEGIN:STANDARD
TZOFFSETFROM:-0700
TZOFFSETTO:-0800
TZNAME:PST
DTSTART:20261101T090000
END:STANDARD
BEGIN:DAYLIGHT
TZOFFSETFROM:-0800
TZOFFSETTO:-0700
TZNAME:PDT
DTSTART:20270314T100000
END:DAYLIGHT
BEGIN:STANDARD
TZOFFSETFROM:-0700
TZOFFSETTO:-0800
TZNAME:PST
DTSTART:20271107T090000
END:STANDARD
END:VTIMEZONE
BEGIN:VEVENT
DTSTART;TZID=America/Los_Angeles:20260118T140000
DTEND;TZID=America/Los_Angeles:20260118T140000
DTSTAMP:20260421T011400
CREATED:20240718T221512Z
LAST-MODIFIED:20251223T003507Z
UID:3064-1768744800-1768744800@fallbrookmusicsociety.org
SUMMARY:FIRE & GRACE
DESCRIPTION:WHERE CELTIC MEETS CLASSICAL \n \nGet ready for a musical journey like no other with Grammy-award-winning guitarist William Coulter and celebrated violinist David Greenberg. This dynamic duo blends two worlds – folk and baroque – into one unforgettable sound that’s as unique as it is moving. From soulful ballads and North American folk tunes to lively Celtic melodies\, passionate tangos\, and timeless Bach their set is a genre-bending mix that keeps you guessing (and grinning). Their chemistry on stage is electric\, their playing is energizing\, and their music? It hits you right in the heart. Warm\, passionate\, and full of surprises\, this concert will stir your soul and leave you feeling inspired. \nDate:  Sunday\, January 18\, 2026\nTime: 2 pm\nAdmission: $20: $25 day of show\nChildren 18 and under are free \nArtist’s Website: www.fireandgracemusic.com \nNOTE:For this performance\, violinist David Greenberg is substituting for Edwin Huizinga \nBUY TICKETS!
URL:https://fallbrookmusicsociety.org/event/fire-grace/
LOCATION:Mission Theater\, 231 North Main Avenue\, Fallbrook\, CA
ATTACH;FMTTYPE=image/jpeg:https://fallbrookmusicsociety.org/wp-content/uploads/2024/07/fire-grace-1.jpg
END:VEVENT
END:VCALENDAR